﻿BEGIN:VCALENDAR
VERSION:2.0
PRODID:-//Central Postal Services - ECPv5.3.2.1//NONSGML v1.0//EN
CALSCALE:GREGORIAN
METHOD:PUBLISH
X-WR-CALNAME:Central Postal Services
X-ORIGINAL-URL:https://postal.idaho.gov
X-WR-CALDESC:Events for Central Postal Services
BEGIN:VTIMEZONE
TZID:America/Boise
BEGIN:DAYLIGHT
TZOFFSETFROM:-0700
TZOFFSETTO:-0600
TZNAME:MDT
DTSTART:20210314T090000
END:DAYLIGHT
BEGIN:STANDARD
TZOFFSETFROM:-0600
TZOFFSETTO:-0700
TZNAME:MST
DTSTART:20211107T080000
END:STANDARD
END:VTIMEZONE
BEGIN:VEVENT
DTSTART;TZID=America/Boise:20210531T000000
DTEND;TZID=America/Boise:20210531T235959
DTSTAMP:20210427T235208
CREATED:20190307T165156Z
LAST-MODIFIED:20190307T165156Z
UID:133-1622419200-1622505599@postal.idaho.gov
SUMMARY:Memorial Day (closed)
DESCRIPTION:State holiday observed and we will be closed.
URL:https://postal.idaho.gov/event/memorial-day/2021-05-31/
CATEGORIES:Holiday
END:VEVENT
END:VCALENDAR