﻿BEGIN:VCALENDAR
VERSION:2.0
PRODID:-//Central Postal Services - ECPv5.3.2.1//NONSGML v1.0//EN
CALSCALE:GREGORIAN
METHOD:PUBLISH
X-WR-CALNAME:Central Postal Services
X-ORIGINAL-URL:https://postal.idaho.gov
X-WR-CALDESC:Events for Central Postal Services
BEGIN:VTIMEZONE
TZID:America/Boise
BEGIN:DAYLIGHT
TZOFFSETFROM:-0700
TZOFFSETTO:-0600
TZNAME:MDT
DTSTART:20210314T090000
END:DAYLIGHT
BEGIN:STANDARD
TZOFFSETFROM:-0600
TZOFFSETTO:-0700
TZNAME:MST
DTSTART:20211107T080000
END:STANDARD
BEGIN:DAYLIGHT
TZOFFSETFROM:-0700
TZOFFSETTO:-0600
TZNAME:MDT
DTSTART:20220313T090000
END:DAYLIGHT
BEGIN:STANDARD
TZOFFSETFROM:-0600
TZOFFSETTO:-0700
TZNAME:MST
DTSTART:20221106T080000
END:STANDARD
BEGIN:DAYLIGHT
TZOFFSETFROM:-0700
TZOFFSETTO:-0600
TZNAME:MDT
DTSTART:20230312T090000
END:DAYLIGHT
BEGIN:STANDARD
TZOFFSETFROM:-0600
TZOFFSETTO:-0700
TZNAME:MST
DTSTART:20231105T080000
END:STANDARD
END:VTIMEZONE
BEGIN:VEVENT
DTSTART;TZID=America/Boise:20230704T000000
DTEND;TZID=America/Boise:20230704T235959
DTSTAMP:20210912T202408
CREATED:20190307T165217Z
LAST-MODIFIED:20190307T165217Z
UID:229-1688428800-1688515199@postal.idaho.gov
SUMMARY:Independence Day (closed)
DESCRIPTION:State holiday observed and we will be closed.
URL:https://postal.idaho.gov/event/independence-day/2023-07-04/
CATEGORIES:Holiday
END:VEVENT
BEGIN:VEVENT
DTSTART;TZID=America/Boise:20230529T000000
DTEND;TZID=America/Boise:20230529T235959
DTSTAMP:20210912T202408
CREATED:20190307T165156Z
LAST-MODIFIED:20190307T165156Z
UID:226-1685318400-1685404799@postal.idaho.gov
SUMMARY:Memorial Day (closed)
DESCRIPTION:State holiday observed and we will be closed.
URL:https://postal.idaho.gov/event/memorial-day/2023-05-29/
CATEGORIES:Holiday
END:VEVENT
BEGIN:VEVENT
DTSTART;TZID=America/Boise:20230220T000000
DTEND;TZID=America/Boise:20230220T235959
DTSTAMP:20210912T202408
CREATED:20190307T165133Z
LAST-MODIFIED:20190307T165133Z
UID:222-1676851200-1676937599@postal.idaho.gov
SUMMARY:Washington's Birthday (closed)
DESCRIPTION:State holiday observed and we will be closed.
URL:https://postal.idaho.gov/event/washingtons-birthday/2023-02-20/
CATEGORIES:Holiday
END:VEVENT
BEGIN:VEVENT
DTSTART;TZID=America/Boise:20230116T000000
DTEND;TZID=America/Boise:20230116T235959
DTSTAMP:20210912T202408
CREATED:20190307T165108Z
LAST-MODIFIED:20190307T165108Z
UID:180-1673827200-1673913599@postal.idaho.gov
SUMMARY:Martin Luther King\, Jr. Day (closed)
DESCRIPTION:State holiday observed and we will be closed.
URL:https://postal.idaho.gov/event/martin-luther-king-jr-day/2023-01-16/
CATEGORIES:Holiday
END:VEVENT
BEGIN:VEVENT
DTSTART;TZID=America/Boise:20230101T000000
DTEND;TZID=America/Boise:20230101T235959
DTSTAMP:20210912T202408
CREATED:20190307T165030Z
LAST-MODIFIED:20190307T165030Z
UID:179-1672531200-1672617599@postal.idaho.gov
SUMMARY:New Year's Day (closed)
DESCRIPTION:State holiday observed and we will be closed.
URL:https://postal.idaho.gov/event/new-years-day/2023-01-01/
CATEGORIES:Holiday
END:VEVENT
BEGIN:VEVENT
DTSTART;TZID=America/Boise:20221225T000000
DTEND;TZID=America/Boise:20221225T235959
DTSTAMP:20210912T202408
CREATED:20190307T165409Z
LAST-MODIFIED:20190307T165409Z
UID:176-1671926400-1672012799@postal.idaho.gov
SUMMARY:Christmas (closed)
DESCRIPTION:State holiday observed and we will be closed.
URL:https://postal.idaho.gov/event/christmas/2022-12-25/
CATEGORIES:Holiday
END:VEVENT
BEGIN:VEVENT
DTSTART;VALUE=DATE:20221124
DTEND;VALUE=DATE:20221125
DTSTAMP:20210912T202408
CREATED:20190307T165348Z
LAST-MODIFIED:20190307T165348Z
UID:174-1669248000-1669334399@postal.idaho.gov
SUMMARY:Thanksgiving (closed)
DESCRIPTION:State holiday observed and we will be closed.
URL:https://postal.idaho.gov/event/thanksgiving/2022-11-24/
CATEGORIES:Holiday
END:VEVENT
BEGIN:VEVENT
DTSTART;VALUE=DATE:20221111
DTEND;VALUE=DATE:20221112
DTSTAMP:20210912T202408
CREATED:20190307T165325Z
LAST-MODIFIED:20190307T165325Z
UID:173-1668124800-1668211199@postal.idaho.gov
SUMMARY:Veterans Day (closed)
DESCRIPTION:State holiday observed and we will be closed.
URL:https://postal.idaho.gov/event/veterans-day/2022-11-11/
CATEGORIES:Holiday
END:VEVENT
BEGIN:VEVENT
DTSTART;TZID=America/Boise:20221010T000000
DTEND;TZID=America/Boise:20221010T235959
DTSTAMP:20210912T202408
CREATED:20190307T165302Z
LAST-MODIFIED:20190307T165302Z
UID:161-1665360000-1665446399@postal.idaho.gov
SUMMARY:Columbus Day (closed)
DESCRIPTION:State holiday observed and we will be closed.
URL:https://postal.idaho.gov/event/columbus-day/2022-10-10/
CATEGORIES:Holiday
END:VEVENT
BEGIN:VEVENT
DTSTART;TZID=America/Boise:20220704T000000
DTEND;TZID=America/Boise:20220704T235959
DTSTAMP:20210912T202408
CREATED:20190307T165217Z
LAST-MODIFIED:20190307T165217Z
UID:157-1656892800-1656979199@postal.idaho.gov
SUMMARY:Independence Day (closed)
DESCRIPTION:State holiday observed and we will be closed.
URL:https://postal.idaho.gov/event/independence-day/2022-07-04/
CATEGORIES:Holiday
END:VEVENT
BEGIN:VEVENT
DTSTART;TZID=America/Boise:20220530T000000
DTEND;TZID=America/Boise:20220530T235959
DTSTAMP:20210912T202408
CREATED:20190307T165156Z
LAST-MODIFIED:20190307T165156Z
UID:154-1653868800-1653955199@postal.idaho.gov
SUMMARY:Memorial Day (closed)
DESCRIPTION:State holiday observed and we will be closed.
URL:https://postal.idaho.gov/event/memorial-day/2022-05-30/
CATEGORIES:Holiday
END:VEVENT
BEGIN:VEVENT
DTSTART;TZID=America/Boise:20220221T000000
DTEND;TZID=America/Boise:20220221T235959
DTSTAMP:20210912T202408
CREATED:20190307T165133Z
LAST-MODIFIED:20190307T165133Z
UID:150-1645401600-1645487999@postal.idaho.gov
SUMMARY:Washington's Birthday (closed)
DESCRIPTION:State holiday observed and we will be closed.
URL:https://postal.idaho.gov/event/washingtons-birthday/2022-02-21/
CATEGORIES:Holiday
END:VEVENT
BEGIN:VEVENT
DTSTART;TZID=America/Boise:20220117T000000
DTEND;TZID=America/Boise:20220117T235959
DTSTAMP:20210912T202408
CREATED:20190307T165108Z
LAST-MODIFIED:20190307T165108Z
UID:148-1642377600-1642463999@postal.idaho.gov
SUMMARY:Martin Luther King\, Jr. Day (closed)
DESCRIPTION:State holiday observed and we will be closed.
URL:https://postal.idaho.gov/event/martin-luther-king-jr-day/2022-01-17/
CATEGORIES:Holiday
END:VEVENT
BEGIN:VEVENT
DTSTART;TZID=America/Boise:20220101T000000
DTEND;TZID=America/Boise:20220101T235959
DTSTAMP:20210912T202408
CREATED:20190307T165030Z
LAST-MODIFIED:20190307T165030Z
UID:147-1640995200-1641081599@postal.idaho.gov
SUMMARY:New Year's Day (closed)
DESCRIPTION:State holiday observed and we will be closed.
URL:https://postal.idaho.gov/event/new-years-day/2022-01-01/
CATEGORIES:Holiday
END:VEVENT
BEGIN:VEVENT
DTSTART;TZID=America/Boise:20211225T000000
DTEND;TZID=America/Boise:20211225T235959
DTSTAMP:20210912T202408
CREATED:20190307T165409Z
LAST-MODIFIED:20190307T165409Z
UID:144-1640390400-1640476799@postal.idaho.gov
SUMMARY:Christmas (closed)
DESCRIPTION:State holiday observed and we will be closed.
URL:https://postal.idaho.gov/event/christmas/2021-12-25/
CATEGORIES:Holiday
END:VEVENT
BEGIN:VEVENT
DTSTART;VALUE=DATE:20211125
DTEND;VALUE=DATE:20211126
DTSTAMP:20210912T202408
CREATED:20190307T165348Z
LAST-MODIFIED:20190307T165348Z
UID:172-1637798400-1637884799@postal.idaho.gov
SUMMARY:Thanksgiving (closed)
DESCRIPTION:State holiday observed and we will be closed.
URL:https://postal.idaho.gov/event/thanksgiving/2021-11-25/
CATEGORIES:Holiday
END:VEVENT
BEGIN:VEVENT
DTSTART;VALUE=DATE:20211111
DTEND;VALUE=DATE:20211112
DTSTAMP:20210912T202408
CREATED:20190307T165325Z
LAST-MODIFIED:20190307T165325Z
UID:167-1636588800-1636675199@postal.idaho.gov
SUMMARY:Veterans Day (closed)
DESCRIPTION:State holiday observed and we will be closed.
URL:https://postal.idaho.gov/event/veterans-day/2021-11-11/
CATEGORIES:Holiday
END:VEVENT
BEGIN:VEVENT
DTSTART;TZID=America/Boise:20211011T000000
DTEND;TZID=America/Boise:20211011T235959
DTSTAMP:20210912T202408
CREATED:20190307T165302Z
LAST-MODIFIED:20190307T165302Z
UID:139-1633910400-1633996799@postal.idaho.gov
SUMMARY:Columbus Day (closed)
DESCRIPTION:State holiday observed and we will be closed.
URL:https://postal.idaho.gov/event/columbus-day/2021-10-11/
CATEGORIES:Holiday
END:VEVENT
END:VCALENDAR